BEGIN:VCALENDAR
VERSION:2.0
PRODID:-//Squarespace Inc/Squarespace 6//v6//EN
BEGIN:VEVENT
UID:5e999fc9d06cf505d38970ee@squarespace.com
DTSTAMP:20200824T235828Z
DTSTART:20200828T073000Z
DTEND:20200828T093000Z
SUMMARY:In Recital - CANCELLED due to COVID19 restrictions
GEO:-36.862207;174.760531
LOCATION:Auckland Opera Studio\, 24 Saint Benedicts Street\, Auckland\, Auc
 kland\, 1010\, New Zealand
END:VEVENT
END:VCALENDAR
